BEGIN:VCALENDAR
VERSION:2.0
PRODID:-//Rob Dob's Restaurant & Bar - ECPv6.15.17//NONSGML v1.0//EN
CALSCALE:GREGORIAN
METHOD:PUBLISH
X-ORIGINAL-URL:https://robdobsbn.com
X-WR-CALDESC:Events for Rob Dob's Restaurant & Bar
REFRESH-INTERVAL;VALUE=DURATION:PT1H
X-Robots-Tag:noindex
X-PUBLISHED-TTL:PT1H
BEGIN:VTIMEZONE
TZID:UTC
BEGIN:STANDARD
TZOFFSETFROM:+0000
TZOFFSETTO:+0000
TZNAME:UTC
DTSTART:20220101T000000
END:STANDARD
END:VTIMEZONE
BEGIN:VEVENT
DTSTART;TZID=UTC:20230526T180000
DTEND;TZID=UTC:20230526T210000
DTSTAMP:20260420T081838
CREATED:20230306T161126Z
LAST-MODIFIED:20230306T161136Z
UID:4835-1685124000-1685134800@robdobsbn.com
SUMMARY:Golden Embers
DESCRIPTION:
URL:https://robdobsbn.com/live-events/golden-embers-6/
END:VEVENT
END:VCALENDAR