BEGIN:VCALENDAR
VERSION:2.0
PRODID:-//Rob Dob's Restaurant & Bar - ECPv6.15.17//NONSGML v1.0//EN
CALSCALE:GREGORIAN
METHOD:PUBLISH
X-WR-CALNAME:Rob Dob's Restaurant & Bar
X-ORIGINAL-URL:https://robdobsbn.com
X-WR-CALDESC:Events for Rob Dob's Restaurant & Bar
REFRESH-INTERVAL;VALUE=DURATION:PT1H
X-Robots-Tag:noindex
X-PUBLISHED-TTL:PT1H
BEGIN:VTIMEZONE
TZID:America/Chicago
BEGIN:DAYLIGHT
TZOFFSETFROM:-0600
TZOFFSETTO:-0500
TZNAME:CDT
DTSTART:20210314T080000
END:DAYLIGHT
BEGIN:STANDARD
TZOFFSETFROM:-0500
TZOFFSETTO:-0600
TZNAME:CST
DTSTART:20211107T070000
END:STANDARD
BEGIN:DAYLIGHT
TZOFFSETFROM:-0600
TZOFFSETTO:-0500
TZNAME:CDT
DTSTART:20220313T080000
END:DAYLIGHT
BEGIN:STANDARD
TZOFFSETFROM:-0500
TZOFFSETTO:-0600
TZNAME:CST
DTSTART:20221106T070000
END:STANDARD
BEGIN:DAYLIGHT
TZOFFSETFROM:-0600
TZOFFSETTO:-0500
TZNAME:CDT
DTSTART:20230312T080000
END:DAYLIGHT
BEGIN:STANDARD
TZOFFSETFROM:-0500
TZOFFSETTO:-0600
TZNAME:CST
DTSTART:20231105T070000
END:STANDARD
END:VTIMEZONE
BEGIN:VEVENT
DTSTART;TZID=America/Chicago:20220128T180000
DTEND;TZID=America/Chicago:20220128T210000
DTSTAMP:20260420T204405
CREATED:20211212T190938Z
LAST-MODIFIED:20211212T190938Z
UID:4103-1643392800-1643403600@robdobsbn.com
SUMMARY:Ed Clark
DESCRIPTION:Ed Clark returns to Rob Dob’s to play everything from pop\, rock\, jazz\, to your favorite Disney songs\, all on our Steinway piano!
URL:https://robdobsbn.com/live-events/ed-clark-8/
LOCATION:Rob Dob’s Bar & Restaurant\, 801 N Hershey Rd\, Bloomington\, IL\, 61704\, United States
END:VEVENT
BEGIN:VEVENT
DTSTART;TZID=America/Chicago:20220122T180000
DTEND;TZID=America/Chicago:20220122T210000
DTSTAMP:20260420T204405
CREATED:20211212T190714Z
LAST-MODIFIED:20211212T190714Z
UID:4101-1642874400-1642885200@robdobsbn.com
SUMMARY:Donna & Friends Trio
DESCRIPTION:Donna and her friends return home for another fun weekend at Rob Dob’s! \n 
URL:https://robdobsbn.com/live-events/donna-friends-trio-9/
LOCATION:Rob Dob’s Bar & Restaurant\, 801 N Hershey Rd\, Bloomington\, IL\, 61704\, United States
END:VEVENT
BEGIN:VEVENT
DTSTART;TZID=America/Chicago:20220121T180000
DTEND;TZID=America/Chicago:20220121T210000
DTSTAMP:20260420T204405
CREATED:20211212T190627Z
LAST-MODIFIED:20211212T190627Z
UID:4098-1642788000-1642798800@robdobsbn.com
SUMMARY:Donna & Friends Trio
DESCRIPTION:Donna and her friends return home for another fun weekend at Rob Dob’s! \n 
URL:https://robdobsbn.com/live-events/donna-friends-trio-8/
LOCATION:Rob Dob’s Bar & Restaurant\, 801 N Hershey Rd\, Bloomington\, IL\, 61704\, United States
END:VEVENT
BEGIN:VEVENT
DTSTART;TZID=America/Chicago:20220115T180000
DTEND;TZID=America/Chicago:20220115T210000
DTSTAMP:20260420T204405
CREATED:20211212T190454Z
LAST-MODIFIED:20211212T190454Z
UID:4096-1642269600-1642280400@robdobsbn.com
SUMMARY:The Style Catz
DESCRIPTION:Take a step back in time to Las Vegas in the 1950s with Frank Sinatra and the Rat Pack\, with all of the glitz and style that can only be provided by the Style Catz!
URL:https://robdobsbn.com/live-events/the-style-catz-6/
LOCATION:Rob Dob’s Bar & Restaurant\, 801 N Hershey Rd\, Bloomington\, IL\, 61704\, United States
END:VEVENT
BEGIN:VEVENT
DTSTART;TZID=America/Chicago:20220114T180000
DTEND;TZID=America/Chicago:20220114T210000
DTSTAMP:20260420T204405
CREATED:20211212T185718Z
LAST-MODIFIED:20211212T185718Z
UID:4093-1642183200-1642194000@robdobsbn.com
SUMMARY:The Style Catz
DESCRIPTION:Step back in time to the classy days of Las Vegas in the 1950s with the sounds of Frank Sinatra and the Rat Pack with the glitz and style that only the Style Catz can provide. \n 
URL:https://robdobsbn.com/live-events/the-style-catz-5/
LOCATION:Rob Dob’s Bar & Restaurant\, 801 N Hershey Rd\, Bloomington\, IL\, 61704\, United States
END:VEVENT
END:VCALENDAR