BEGIN:VCALENDAR
VERSION:2.0
PRODID:-//Rob Dob's Restaurant & Bar - ECPv6.15.17//NONSGML v1.0//EN
CALSCALE:GREGORIAN
METHOD:PUBLISH
X-WR-CALNAME:Rob Dob's Restaurant & Bar
X-ORIGINAL-URL:https://robdobsbn.com
X-WR-CALDESC:Events for Rob Dob's Restaurant & Bar
REFRESH-INTERVAL;VALUE=DURATION:PT1H
X-Robots-Tag:noindex
X-PUBLISHED-TTL:PT1H
BEGIN:VTIMEZONE
TZID:UTC
BEGIN:STANDARD
TZOFFSETFROM:+0000
TZOFFSETTO:+0000
TZNAME:UTC
DTSTART:20210101T000000
END:STANDARD
END:VTIMEZONE
BEGIN:VTIMEZONE
TZID:America/Chicago
BEGIN:DAYLIGHT
TZOFFSETFROM:-0600
TZOFFSETTO:-0500
TZNAME:CDT
DTSTART:20210314T080000
END:DAYLIGHT
BEGIN:STANDARD
TZOFFSETFROM:-0500
TZOFFSETTO:-0600
TZNAME:CST
DTSTART:20211107T070000
END:STANDARD
BEGIN:DAYLIGHT
TZOFFSETFROM:-0600
TZOFFSETTO:-0500
TZNAME:CDT
DTSTART:20220313T080000
END:DAYLIGHT
BEGIN:STANDARD
TZOFFSETFROM:-0500
TZOFFSETTO:-0600
TZNAME:CST
DTSTART:20221106T070000
END:STANDARD
BEGIN:DAYLIGHT
TZOFFSETFROM:-0600
TZOFFSETTO:-0500
TZNAME:CDT
DTSTART:20230312T080000
END:DAYLIGHT
BEGIN:STANDARD
TZOFFSETFROM:-0500
TZOFFSETTO:-0600
TZNAME:CST
DTSTART:20231105T070000
END:STANDARD
END:VTIMEZONE
BEGIN:VEVENT
DTSTART;TZID=UTC:20220715T180000
DTEND;TZID=UTC:20220715T210000
DTSTAMP:20260424T083053
CREATED:20220628T172725Z
LAST-MODIFIED:20220628T172725Z
UID:4405-1657908000-1657918800@robdobsbn.com
SUMMARY:Jim & Tommy
DESCRIPTION:
URL:https://robdobsbn.com/live-events/jim-tommy/
END:VEVENT
BEGIN:VEVENT
DTSTART;TZID=UTC:20220709T180000
DTEND;TZID=UTC:20220709T210000
DTSTAMP:20260424T083053
CREATED:20220628T173401Z
LAST-MODIFIED:20220628T173401Z
UID:4417-1657389600-1657400400@robdobsbn.com
SUMMARY:Carl Bopp
DESCRIPTION:
URL:https://robdobsbn.com/live-events/carl-bopp-15/
END:VEVENT
BEGIN:VEVENT
DTSTART;TZID=UTC:20220702T180000
DTEND;TZID=UTC:20220702T210000
DTSTAMP:20260424T083053
CREATED:20220628T172542Z
LAST-MODIFIED:20220628T172542Z
UID:4401-1656784800-1656795600@robdobsbn.com
SUMMARY:Donna & Friends
DESCRIPTION:
URL:https://robdobsbn.com/live-events/donna-friends-5/
END:VEVENT
BEGIN:VEVENT
DTSTART;TZID=UTC:20220701T180000
DTEND;TZID=UTC:20220701T210000
DTSTAMP:20260424T083053
CREATED:20220628T172424Z
LAST-MODIFIED:20220628T172424Z
UID:4398-1656698400-1656709200@robdobsbn.com
SUMMARY:Donna & Friends
DESCRIPTION:
URL:https://robdobsbn.com/live-events/donna-friends-4/
END:VEVENT
BEGIN:VEVENT
DTSTART;VALUE=DATE:20220617
DTEND;VALUE=DATE:20220619
DTSTAMP:20260424T083053
CREATED:20220701T191110Z
LAST-MODIFIED:20220628T165608Z
UID:4373-1655424000-1655596799@robdobsbn.com
SUMMARY:Donna & Friends
DESCRIPTION:
URL:https://robdobsbn.com/live-events/donna-friends-3/
LOCATION:Rob Dob’s Bar & Restaurant\, 801 N Hershey Rd\, Bloomington\, IL\, 61704\, United States
END:VEVENT
BEGIN:VEVENT
DTSTART;TZID=UTC:20220611T180000
DTEND;TZID=UTC:20220611T210000
DTSTAMP:20260424T083053
CREATED:20220601T190630Z
LAST-MODIFIED:20220601T190630Z
UID:4371-1654970400-1654981200@robdobsbn.com
SUMMARY:Mike Gardner "Straight Answer Trio"
DESCRIPTION:
URL:https://robdobsbn.com/live-events/mike-gardner-straight-answer-trio/
LOCATION:Rob Dob’s Bar & Restaurant\, 801 N Hershey Rd\, Bloomington\, IL\, 61704\, United States
END:VEVENT
BEGIN:VEVENT
DTSTART;TZID=UTC:20220610T180000
DTEND;TZID=UTC:20220610T180000
DTSTAMP:20260424T083053
CREATED:20220601T190455Z
LAST-MODIFIED:20220601T190455Z
UID:4369-1654884000-1654884000@robdobsbn.com
SUMMARY:Jimmy & Tommy
DESCRIPTION:
URL:https://robdobsbn.com/live-events/jimmy-tommy/
LOCATION:Rob Dob’s Bar & Restaurant\, 801 N Hershey Rd\, Bloomington\, IL\, 61704\, United States
END:VEVENT
BEGIN:VEVENT
DTSTART;VALUE=DATE:20220604
DTEND;VALUE=DATE:20220605
DTSTAMP:20260424T083053
CREATED:20220601T190344Z
LAST-MODIFIED:20220601T190344Z
UID:4367-1654300800-1654387199@robdobsbn.com
SUMMARY:James Herr
DESCRIPTION:
URL:https://robdobsbn.com/live-events/james-herr/
LOCATION:Rob Dob’s Bar & Restaurant\, 801 N Hershey Rd\, Bloomington\, IL\, 61704\, United States
END:VEVENT
BEGIN:VEVENT
DTSTART;VALUE=DATE:20220603
DTEND;VALUE=DATE:20220604
DTSTAMP:20260424T083053
CREATED:20220601T190113Z
LAST-MODIFIED:20220601T190408Z
UID:4365-1654214400-1654300799@robdobsbn.com
SUMMARY:Michael Johnson
DESCRIPTION:
URL:https://robdobsbn.com/live-events/michael-johnson-2/
LOCATION:Rob Dob’s Bar & Restaurant\, 801 N Hershey Rd\, Bloomington\, IL\, 61704\, United States
END:VEVENT
BEGIN:VEVENT
DTSTART;TZID=UTC:20220528T180000
DTEND;TZID=UTC:20220528T210000
DTSTAMP:20260424T083053
CREATED:20220423T143842Z
LAST-MODIFIED:20220423T143842Z
UID:4355-1653760800-1653771600@robdobsbn.com
SUMMARY:Joe Palma LIVE
DESCRIPTION:Joe Palma always brings style when he graces our stage! Come see him for his two-night event! \nCheck him out here!
URL:https://robdobsbn.com/live-events/joe-palma-live-2/
LOCATION:Rob Dob’s Bar & Restaurant\, 801 N Hershey Rd\, Bloomington\, IL\, 61704\, United States
END:VEVENT
BEGIN:VEVENT
DTSTART;TZID=UTC:20220527T180000
DTEND;TZID=UTC:20220527T210000
DTSTAMP:20260424T083053
CREATED:20220423T143702Z
LAST-MODIFIED:20220423T143702Z
UID:4352-1653674400-1653685200@robdobsbn.com
SUMMARY:Joe Palma LIVE
DESCRIPTION:Joe Palma always brings style when he graces our stage! Come see him for his two-night event! \nCheck him out here!
URL:https://robdobsbn.com/live-events/joe-palma-live/
LOCATION:Rob Dob’s Bar & Restaurant\, 801 N Hershey Rd\, Bloomington\, IL\, 61704\, United States
END:VEVENT
BEGIN:VEVENT
DTSTART;TZID=UTC:20220521T180000
DTEND;TZID=UTC:20220521T210000
DTSTAMP:20260424T083053
CREATED:20220423T143347Z
LAST-MODIFIED:20220423T143347Z
UID:4350-1653156000-1653166800@robdobsbn.com
SUMMARY:The Straight Answer Jazz Trio
DESCRIPTION:Jazz is not the question\, but we have the answer! Join us as the Straight Answer Jazz Trio take over the stage at Rob Dob’s for their two-night event! \nCheck them out here!
URL:https://robdobsbn.com/live-events/the-straight-answer-jazz-trio-5/
LOCATION:Rob Dob’s Bar & Restaurant\, 801 N Hershey Rd\, Bloomington\, IL\, 61704\, United States
END:VEVENT
BEGIN:VEVENT
DTSTART;TZID=UTC:20220520T180000
DTEND;TZID=UTC:20220520T210000
DTSTAMP:20260424T083053
CREATED:20220423T143308Z
LAST-MODIFIED:20220423T143308Z
UID:4347-1653069600-1653080400@robdobsbn.com
SUMMARY:The Straight Answer Jazz Trio
DESCRIPTION:Jazz is not the question\, but we have the answer! Join us as the Straight Answer Jazz Trio take over the stage at Rob Dob’s for their two-night event! \nCheck them out here!
URL:https://robdobsbn.com/live-events/the-straight-answer-jazz-trio-4/
LOCATION:Rob Dob’s Bar & Restaurant\, 801 N Hershey Rd\, Bloomington\, IL\, 61704\, United States
END:VEVENT
BEGIN:VEVENT
DTSTART;TZID=UTC:20220514T180000
DTEND;TZID=UTC:20220514T210000
DTSTAMP:20260424T083053
CREATED:20220708T110020Z
LAST-MODIFIED:20220628T170927Z
UID:4345-1652551200-1652562000@robdobsbn.com
SUMMARY:Carl Bopp
DESCRIPTION:The Ivory King is back with his keyboard! Come out and hear Carl Bopp play everything to jazz and pop in his cool and laid-back show. \nCheck him out here!
URL:https://robdobsbn.com/live-events/carl-bopp-11/
LOCATION:Rob Dob’s Bar & Restaurant\, 801 N Hershey Rd\, Bloomington\, IL\, 61704\, United States
END:VEVENT
BEGIN:VEVENT
DTSTART;TZID=UTC:20220507T180000
DTEND;TZID=UTC:20220507T210000
DTSTAMP:20260424T083053
CREATED:20220423T142709Z
LAST-MODIFIED:20220423T142709Z
UID:4340-1651946400-1651957200@robdobsbn.com
SUMMARY:Jim & Tommy Acoustic Rock
DESCRIPTION:The master duo is back! Join us as Jim & Tommy Acoustic Rock plays all of your favorite hits. \nCheck them out here!
URL:https://robdobsbn.com/live-events/jim-tommy-acoustic-rock-11/
LOCATION:Rob Dob’s Bar & Restaurant\, 801 N Hershey Rd\, Bloomington\, IL\, 61704\, United States
END:VEVENT
BEGIN:VEVENT
DTSTART;TZID=UTC:20220506T180000
DTEND;TZID=UTC:20220506T210000
DTSTAMP:20260424T083053
CREATED:20220423T142544Z
LAST-MODIFIED:20220423T142544Z
UID:4337-1651860000-1651870800@robdobsbn.com
SUMMARY:Jim & Tommy Acoustic Rock
DESCRIPTION:The master duo is back! Join us as Jim & Tommy Acoustic Rock plays all of your favorite hits. \nCheck them out here!
URL:https://robdobsbn.com/live-events/jim-tommy-acoustic-rock-10/
LOCATION:Rob Dob’s Bar & Restaurant\, 801 N Hershey Rd\, Bloomington\, IL\, 61704\, United States
END:VEVENT
BEGIN:VEVENT
DTSTART;TZID=UTC:20220430T180000
DTEND;TZID=UTC:20220430T210000
DTSTAMP:20260424T083053
CREATED:20220402T202214Z
LAST-MODIFIED:20220402T202214Z
UID:4311-1651341600-1651352400@robdobsbn.com
SUMMARY:Ed Clark
DESCRIPTION:Join us this weekend for dinner\, drinks\, and live music. When Ed Clark is on the Steinway you will hear everything from jazz\, pop\, and even all of the songs that make you sing along from Disney. Come check him out for his two-night event!
URL:https://robdobsbn.com/live-events/ed-clark-12/
LOCATION:Rob Dob’s Bar & Restaurant\, 801 N Hershey Rd\, Bloomington\, IL\, 61704\, United States
END:VEVENT
BEGIN:VEVENT
DTSTART;TZID=UTC:20220429T180000
DTEND;TZID=UTC:20220429T210000
DTSTAMP:20260424T083053
CREATED:20220402T202126Z
LAST-MODIFIED:20220402T202126Z
UID:4308-1651255200-1651266000@robdobsbn.com
SUMMARY:Ed Clark
DESCRIPTION:Join us this weekend for dinner\, drinks\, and live music. When Ed Clark is on the Steinway you will hear everything from jazz\, pop\, and even all of the songs that make you sing along from Disney. Come check him out for his two-night event!
URL:https://robdobsbn.com/live-events/ed-clark-11/
LOCATION:Rob Dob’s Bar & Restaurant\, 801 N Hershey Rd\, Bloomington\, IL\, 61704\, United States
END:VEVENT
BEGIN:VEVENT
DTSTART;TZID=UTC:20220423T180000
DTEND;TZID=UTC:20220423T210000
DTSTAMP:20260424T083053
CREATED:20220401T212250Z
LAST-MODIFIED:20220420T205416Z
UID:4303-1650736800-1650747600@robdobsbn.com
SUMMARY:Donna & Friends Trio
DESCRIPTION:Donna and her friends return to Rob Dob’s for another night of live music and good times! Make your reservation now because they are only here for one night!
URL:https://robdobsbn.com/live-events/donna-friends-trio-14/
LOCATION:Rob Dob’s Bar & Restaurant\, 801 N Hershey Rd\, Bloomington\, IL\, 61704\, United States
END:VEVENT
BEGIN:VEVENT
DTSTART;TZID=UTC:20220422T180000
DTEND;TZID=UTC:20220422T210000
DTSTAMP:20260424T083053
CREATED:20220420T205553Z
LAST-MODIFIED:20220420T205553Z
UID:4335-1650650400-1650661200@robdobsbn.com
SUMMARY:Donna & Friends Trio
DESCRIPTION:Donna and her friends return to Rob Dob’s for another night of live music and good times! Make your reservation now because they are only here for one night!
URL:https://robdobsbn.com/live-events/donna-friends-trio-15/
LOCATION:Rob Dob’s Bar & Restaurant\, 801 N Hershey Rd\, Bloomington\, IL\, 61704\, United States
END:VEVENT
BEGIN:VEVENT
DTSTART;TZID=UTC:20220416T180000
DTEND;TZID=UTC:20220416T210000
DTSTAMP:20260424T083053
CREATED:20220401T211658Z
LAST-MODIFIED:20220401T211658Z
UID:4298-1650132000-1650142800@robdobsbn.com
SUMMARY:The Straight Answer Trio
DESCRIPTION:Jazz is king at Rob Dob’s when The Straight Answer Trio is on the stage! Check them out for their two-night event! \nCheck them out here.
URL:https://robdobsbn.com/live-events/the-straight-answer-trio-4/
LOCATION:Rob Dob’s Bar & Restaurant\, 801 N Hershey Rd\, Bloomington\, IL\, 61704\, United States
END:VEVENT
BEGIN:VEVENT
DTSTART;TZID=UTC:20220415T180000
DTEND;TZID=UTC:20220415T210000
DTSTAMP:20260424T083053
CREATED:20220401T211624Z
LAST-MODIFIED:20220401T211624Z
UID:4295-1650045600-1650056400@robdobsbn.com
SUMMARY:The Straight Answer Trio
DESCRIPTION:Jazz is king at Rob Dob’s when The Straight Answer Trio is on the stage! Check them out for their two-night event! \nCheck them out here.
URL:https://robdobsbn.com/live-events/the-straight-answer-trio-3/
LOCATION:Rob Dob’s Bar & Restaurant\, 801 N Hershey Rd\, Bloomington\, IL\, 61704\, United States
END:VEVENT
BEGIN:VEVENT
DTSTART;TZID=UTC:20220409T180000
DTEND;TZID=UTC:20220409T210000
DTSTAMP:20260424T083053
CREATED:20220401T211011Z
LAST-MODIFIED:20220401T211011Z
UID:4293-1649527200-1649538000@robdobsbn.com
SUMMARY:Jim & Tommy Acoustic Rock
DESCRIPTION:Jim & Tommy are back at Rob Dob’s and are taking requests! Hear them play your favorites when they are here for a two-night event! \n  \nCheck them out here. \n 
URL:https://robdobsbn.com/live-events/jim-tommy-acoustic-rock-9/
LOCATION:Rob Dob’s Bar & Restaurant\, 801 N Hershey Rd\, Bloomington\, IL\, 61704\, United States
END:VEVENT
BEGIN:VEVENT
DTSTART;TZID=UTC:20220408T180000
DTEND;TZID=UTC:20220408T210000
DTSTAMP:20260424T083053
CREATED:20220401T210930Z
LAST-MODIFIED:20220401T210930Z
UID:4290-1649440800-1649451600@robdobsbn.com
SUMMARY:Jim & Tommy Acoustic Rock
DESCRIPTION:Jim & Tommy are back at Rob Dob’s and are taking requests! Hear them play your favorites when they are here for a two-night event! \n  \nCheck them out here. \n 
URL:https://robdobsbn.com/live-events/jim-tommy-acoustic-rock-8/
LOCATION:Rob Dob’s Bar & Restaurant\, 801 N Hershey Rd\, Bloomington\, IL\, 61704\, United States
END:VEVENT
BEGIN:VEVENT
DTSTART;TZID=UTC:20220402T180000
DTEND;TZID=UTC:20220402T210000
DTSTAMP:20260424T083053
CREATED:20220401T210608Z
LAST-MODIFIED:20220401T210608Z
UID:4288-1648922400-1648933200@robdobsbn.com
SUMMARY:Style Catz
DESCRIPTION:Relive the glory days of Las Vegas with The Style Catz! Hear all of your favorite hits from The Rat Pack and more! \n 
URL:https://robdobsbn.com/live-events/style-catz-4/
LOCATION:Rob Dob’s Bar & Restaurant\, 801 N Hershey Rd\, Bloomington\, IL\, 61704\, United States
END:VEVENT
BEGIN:VEVENT
DTSTART;TZID=UTC:20220401T180000
DTEND;TZID=UTC:20220401T210000
DTSTAMP:20260424T083053
CREATED:20220401T210354Z
LAST-MODIFIED:20220401T210354Z
UID:4284-1648836000-1648846800@robdobsbn.com
SUMMARY:Style Catz
DESCRIPTION:Relive the glory days of Las Vegas with The Style Catz! Hear all of your favorite hits from The Rat Pack and more! \n 
URL:https://robdobsbn.com/live-events/style-catz-3/
LOCATION:Rob Dob’s Bar & Restaurant\, 801 N Hershey Rd\, Bloomington\, IL\, 61704\, United States
END:VEVENT
BEGIN:VEVENT
DTSTART;TZID=America/Chicago:20220326T180000
DTEND;TZID=America/Chicago:20220326T210000
DTSTAMP:20260424T083053
CREATED:20220123T232613Z
LAST-MODIFIED:20220123T232937Z
UID:4185-1648317600-1648328400@robdobsbn.com
SUMMARY:Carl Bopp
DESCRIPTION:Carl Bopp is back with the popp! Come out for his two-night show as he plays all the hits! \n 
URL:https://robdobsbn.com/live-events/carl-bopp-9/
LOCATION:Rob Dob’s Bar & Restaurant\, 801 N Hershey Rd\, Bloomington\, IL\, 61704\, United States
END:VEVENT
BEGIN:VEVENT
DTSTART;TZID=America/Chicago:20220319T180000
DTEND;TZID=America/Chicago:20220319T210000
DTSTAMP:20260424T083053
CREATED:20220123T232431Z
LAST-MODIFIED:20220123T232431Z
UID:4180-1647712800-1647723600@robdobsbn.com
SUMMARY:Jim & Tommy Acoustic Rock
DESCRIPTION:If you have never seen Jim & Tommy play at Rob Dob’s then you are missing out! Fear not\, for you have not one\, not two\, but three chances to see them this week! \nCheck them out here.
URL:https://robdobsbn.com/live-events/jim-tommy-acoustic-rock-7/
LOCATION:Rob Dob’s Bar & Restaurant\, 801 N Hershey Rd\, Bloomington\, IL\, 61704\, United States
END:VEVENT
BEGIN:VEVENT
DTSTART;TZID=America/Chicago:20220318T180000
DTEND;TZID=America/Chicago:20220318T210000
DTSTAMP:20260424T083053
CREATED:20220123T232354Z
LAST-MODIFIED:20220123T232354Z
UID:4178-1647626400-1647637200@robdobsbn.com
SUMMARY:Jim & Tommy Acoustic Rock
DESCRIPTION:If you have never seen Jim & Tommy play at Rob Dob’s then you are missing out! Fear not\, for you have not one\, not two\, but three chances to see them this week! \nCheck them out here.
URL:https://robdobsbn.com/live-events/jim-tommy-acoustic-rock-6/
LOCATION:Rob Dob’s Bar & Restaurant\, 801 N Hershey Rd\, Bloomington\, IL\, 61704\, United States
END:VEVENT
BEGIN:VEVENT
DTSTART;TZID=America/Chicago:20220317T180000
DTEND;TZID=America/Chicago:20220317T210000
DTSTAMP:20260424T083053
CREATED:20220123T232306Z
LAST-MODIFIED:20220123T232306Z
UID:4175-1647540000-1647550800@robdobsbn.com
SUMMARY:Jim & Tommy Acoustic Rock
DESCRIPTION:If you have never seen Jim & Tommy play at Rob Dob’s then you are missing out! Fear not\, for you have not one\, not two\, but three chances to see them this week! If you are feeling lucky then join us for a special St. Patrick’s Day show! \nCheck them out here.
URL:https://robdobsbn.com/live-events/jim-tommy-acoustic-rock-4/
LOCATION:Rob Dob’s Bar & Restaurant\, 801 N Hershey Rd\, Bloomington\, IL\, 61704\, United States
END:VEVENT
END:VCALENDAR