BEGIN:VCALENDAR
VERSION:2.0
PRODID:-//Rob Dob's Restaurant & Bar - ECPv6.15.17//NONSGML v1.0//EN
CALSCALE:GREGORIAN
METHOD:PUBLISH
X-WR-CALNAME:Rob Dob's Restaurant & Bar
X-ORIGINAL-URL:https://robdobsbn.com
X-WR-CALDESC:Events for Rob Dob's Restaurant & Bar
REFRESH-INTERVAL;VALUE=DURATION:PT1H
X-Robots-Tag:noindex
X-PUBLISHED-TTL:PT1H
BEGIN:VTIMEZONE
TZID:UTC
BEGIN:STANDARD
TZOFFSETFROM:+0000
TZOFFSETTO:+0000
TZNAME:UTC
DTSTART:20210101T000000
END:STANDARD
END:VTIMEZONE
BEGIN:VEVENT
DTSTART;TZID=UTC:20221007T180000
DTEND;TZID=UTC:20221007T180000
DTSTAMP:20260420T130401
CREATED:20220914T214840Z
LAST-MODIFIED:20220914T214840Z
UID:4559-1665165600-1665165600@robdobsbn.com
SUMMARY:Jimmy & Tommy
DESCRIPTION:
URL:https://robdobsbn.com/live-events/jimmy-tommy-5/
END:VEVENT
BEGIN:VEVENT
DTSTART;TZID=UTC:20221001T180000
DTEND;TZID=UTC:20221001T210000
DTSTAMP:20260420T130401
CREATED:20220913T183652Z
LAST-MODIFIED:20220913T183832Z
UID:4527-1664647200-1664658000@robdobsbn.com
SUMMARY:Donna & Friends
DESCRIPTION:
URL:https://robdobsbn.com/live-events/donna-friends-8/
END:VEVENT
BEGIN:VEVENT
DTSTART;TZID=UTC:20220930T180000
DTEND;TZID=UTC:20220930T180000
DTSTAMP:20260420T130401
CREATED:20220913T184401Z
LAST-MODIFIED:20220913T184401Z
UID:4531-1664560800-1664560800@robdobsbn.com
SUMMARY:Donna & Friends
DESCRIPTION:
URL:https://robdobsbn.com/live-events/donna-friends-6/
END:VEVENT
BEGIN:VEVENT
DTSTART;TZID=UTC:20220924T180000
DTEND;TZID=UTC:20220924T210000
DTSTAMP:20260420T130401
CREATED:20220913T190532Z
LAST-MODIFIED:20220913T190646Z
UID:4543-1664042400-1664053200@robdobsbn.com
SUMMARY:Almost Live
DESCRIPTION:
URL:https://robdobsbn.com/live-events/almost-live-2/
END:VEVENT
BEGIN:VEVENT
DTSTART;TZID=UTC:20220923T180000
DTEND;TZID=UTC:20220923T180000
DTSTAMP:20260420T130401
CREATED:20220913T190047Z
LAST-MODIFIED:20220913T190414Z
UID:4539-1663956000-1663956000@robdobsbn.com
SUMMARY:Almost Live
DESCRIPTION:
URL:https://robdobsbn.com/live-events/almost-live/
END:VEVENT
BEGIN:VEVENT
DTSTART;TZID=UTC:20220917T180000
DTEND;TZID=UTC:20220917T210000
DTSTAMP:20260420T130401
CREATED:20220913T110052Z
LAST-MODIFIED:20220913T182349Z
UID:4506-1663437600-1663448400@robdobsbn.com
SUMMARY:Carl Bopp
DESCRIPTION:
URL:https://robdobsbn.com/live-events/carl-bopp-19/
END:VEVENT
BEGIN:VEVENT
DTSTART;TZID=UTC:20220916T180000
DTEND;TZID=UTC:20220916T210000
DTSTAMP:20260420T130401
CREATED:20220913T110031Z
LAST-MODIFIED:20220913T180439Z
UID:4502-1663351200-1663362000@robdobsbn.com
SUMMARY:Carl Bopp
DESCRIPTION:
URL:https://robdobsbn.com/live-events/carl-bopp-18/
END:VEVENT
BEGIN:VEVENT
DTSTART;VALUE=DATE:20220826
DTEND;VALUE=DATE:20220827
DTSTAMP:20260420T130401
CREATED:20220707T194031Z
LAST-MODIFIED:20220707T194118Z
UID:4440-1661472000-1661558399@robdobsbn.com
SUMMARY:Shuga Beatz
DESCRIPTION:
URL:https://robdobsbn.com/live-events/shuga-beatz/
END:VEVENT
BEGIN:VEVENT
DTSTART;VALUE=DATE:20220820
DTEND;VALUE=DATE:20220821
DTSTAMP:20260420T130401
CREATED:20220707T193945Z
LAST-MODIFIED:20220707T193945Z
UID:4438-1660953600-1661039999@robdobsbn.com
SUMMARY:Jimmy & Tommy
DESCRIPTION:
URL:https://robdobsbn.com/live-events/jimmy-tommy-3/
END:VEVENT
BEGIN:VEVENT
DTSTART;VALUE=DATE:20220819
DTEND;VALUE=DATE:20220820
DTSTAMP:20260420T130401
CREATED:20220707T193904Z
LAST-MODIFIED:20220707T193904Z
UID:4436-1660867200-1660953599@robdobsbn.com
SUMMARY:Jimmy & Tommy
DESCRIPTION:
URL:https://robdobsbn.com/live-events/jimmy-tommy-2/
END:VEVENT
BEGIN:VEVENT
DTSTART;VALUE=DATE:20220813
DTEND;VALUE=DATE:20220814
DTSTAMP:20260420T130401
CREATED:20220916T193555Z
LAST-MODIFIED:20220913T174529Z
UID:4432-1660348800-1660435199@robdobsbn.com
SUMMARY:Carl Bopp
DESCRIPTION:
URL:https://robdobsbn.com/live-events/carl-bopp-17/
END:VEVENT
BEGIN:VEVENT
DTSTART;VALUE=DATE:20220806
DTEND;VALUE=DATE:20220807
DTSTAMP:20260420T130401
CREATED:20220707T193430Z
LAST-MODIFIED:20220720T175959Z
UID:4428-1659744000-1659830399@robdobsbn.com
SUMMARY:Mike Johnson
DESCRIPTION:
URL:https://robdobsbn.com/live-events/ed-clark-16/
END:VEVENT
BEGIN:VEVENT
DTSTART;VALUE=DATE:20220805
DTEND;VALUE=DATE:20220806
DTSTAMP:20260420T130401
CREATED:20220707T193352Z
LAST-MODIFIED:20220720T180305Z
UID:4426-1659657600-1659743999@robdobsbn.com
SUMMARY:Mike Johnson
DESCRIPTION:
URL:https://robdobsbn.com/live-events/ed-clark-15/
END:VEVENT
BEGIN:VEVENT
DTSTART;TZID=UTC:20220730T180000
DTEND;TZID=UTC:20220730T210000
DTSTAMP:20260420T130401
CREATED:20220628T173213Z
LAST-MODIFIED:20220628T173213Z
UID:4415-1659204000-1659214800@robdobsbn.com
SUMMARY:Carl Bopp
DESCRIPTION:
URL:https://robdobsbn.com/live-events/carl-bopp-14/
END:VEVENT
BEGIN:VEVENT
DTSTART;TZID=UTC:20220723T180000
DTEND;TZID=UTC:20220723T210000
DTSTAMP:20260420T130401
CREATED:20220628T173007Z
LAST-MODIFIED:20220628T173007Z
UID:4411-1658599200-1658610000@robdobsbn.com
SUMMARY:Ed Clark
DESCRIPTION:
URL:https://robdobsbn.com/live-events/ed-clark-14/
END:VEVENT
BEGIN:VEVENT
DTSTART;TZID=UTC:20220722T180000
DTEND;TZID=UTC:20220722T210000
DTSTAMP:20260420T130401
CREATED:20220628T172920Z
LAST-MODIFIED:20220628T172920Z
UID:4409-1658512800-1658523600@robdobsbn.com
SUMMARY:Ed Clark
DESCRIPTION:
URL:https://robdobsbn.com/live-events/ed-clark-13/
END:VEVENT
BEGIN:VEVENT
DTSTART;TZID=UTC:20220716T180000
DTEND;TZID=UTC:20220716T210000
DTSTAMP:20260420T130401
CREATED:20220628T172806Z
LAST-MODIFIED:20220706T183819Z
UID:4407-1657994400-1658005200@robdobsbn.com
SUMMARY:Donna & Friends
DESCRIPTION:
URL:https://robdobsbn.com/live-events/jim-tommy-2/
END:VEVENT
BEGIN:VEVENT
DTSTART;TZID=UTC:20220715T180000
DTEND;TZID=UTC:20220715T210000
DTSTAMP:20260420T130401
CREATED:20220628T172725Z
LAST-MODIFIED:20220628T172725Z
UID:4405-1657908000-1657918800@robdobsbn.com
SUMMARY:Jim & Tommy
DESCRIPTION:
URL:https://robdobsbn.com/live-events/jim-tommy/
END:VEVENT
BEGIN:VEVENT
DTSTART;TZID=UTC:20220709T180000
DTEND;TZID=UTC:20220709T210000
DTSTAMP:20260420T130401
CREATED:20220628T173401Z
LAST-MODIFIED:20220628T173401Z
UID:4417-1657389600-1657400400@robdobsbn.com
SUMMARY:Carl Bopp
DESCRIPTION:
URL:https://robdobsbn.com/live-events/carl-bopp-15/
END:VEVENT
BEGIN:VEVENT
DTSTART;TZID=UTC:20220702T180000
DTEND;TZID=UTC:20220702T210000
DTSTAMP:20260420T130401
CREATED:20220628T172542Z
LAST-MODIFIED:20220628T172542Z
UID:4401-1656784800-1656795600@robdobsbn.com
SUMMARY:Donna & Friends
DESCRIPTION:
URL:https://robdobsbn.com/live-events/donna-friends-5/
END:VEVENT
BEGIN:VEVENT
DTSTART;TZID=UTC:20220701T180000
DTEND;TZID=UTC:20220701T210000
DTSTAMP:20260420T130401
CREATED:20220628T172424Z
LAST-MODIFIED:20220628T172424Z
UID:4398-1656698400-1656709200@robdobsbn.com
SUMMARY:Donna & Friends
DESCRIPTION:
URL:https://robdobsbn.com/live-events/donna-friends-4/
END:VEVENT
BEGIN:VEVENT
DTSTART;VALUE=DATE:20220617
DTEND;VALUE=DATE:20220619
DTSTAMP:20260420T130401
CREATED:20220701T191110Z
LAST-MODIFIED:20220628T165608Z
UID:4373-1655424000-1655596799@robdobsbn.com
SUMMARY:Donna & Friends
DESCRIPTION:
URL:https://robdobsbn.com/live-events/donna-friends-3/
LOCATION:Rob Dob’s Bar & Restaurant\, 801 N Hershey Rd\, Bloomington\, IL\, 61704\, United States
END:VEVENT
BEGIN:VEVENT
DTSTART;TZID=UTC:20220611T180000
DTEND;TZID=UTC:20220611T210000
DTSTAMP:20260420T130401
CREATED:20220601T190630Z
LAST-MODIFIED:20220601T190630Z
UID:4371-1654970400-1654981200@robdobsbn.com
SUMMARY:Mike Gardner "Straight Answer Trio"
DESCRIPTION:
URL:https://robdobsbn.com/live-events/mike-gardner-straight-answer-trio/
LOCATION:Rob Dob’s Bar & Restaurant\, 801 N Hershey Rd\, Bloomington\, IL\, 61704\, United States
END:VEVENT
BEGIN:VEVENT
DTSTART;TZID=UTC:20220610T180000
DTEND;TZID=UTC:20220610T180000
DTSTAMP:20260420T130401
CREATED:20220601T190455Z
LAST-MODIFIED:20220601T190455Z
UID:4369-1654884000-1654884000@robdobsbn.com
SUMMARY:Jimmy & Tommy
DESCRIPTION:
URL:https://robdobsbn.com/live-events/jimmy-tommy/
LOCATION:Rob Dob’s Bar & Restaurant\, 801 N Hershey Rd\, Bloomington\, IL\, 61704\, United States
END:VEVENT
BEGIN:VEVENT
DTSTART;VALUE=DATE:20220604
DTEND;VALUE=DATE:20220605
DTSTAMP:20260420T130401
CREATED:20220601T190344Z
LAST-MODIFIED:20220601T190344Z
UID:4367-1654300800-1654387199@robdobsbn.com
SUMMARY:James Herr
DESCRIPTION:
URL:https://robdobsbn.com/live-events/james-herr/
LOCATION:Rob Dob’s Bar & Restaurant\, 801 N Hershey Rd\, Bloomington\, IL\, 61704\, United States
END:VEVENT
BEGIN:VEVENT
DTSTART;VALUE=DATE:20220603
DTEND;VALUE=DATE:20220604
DTSTAMP:20260420T130401
CREATED:20220601T190113Z
LAST-MODIFIED:20220601T190408Z
UID:4365-1654214400-1654300799@robdobsbn.com
SUMMARY:Michael Johnson
DESCRIPTION:
URL:https://robdobsbn.com/live-events/michael-johnson-2/
LOCATION:Rob Dob’s Bar & Restaurant\, 801 N Hershey Rd\, Bloomington\, IL\, 61704\, United States
END:VEVENT
BEGIN:VEVENT
DTSTART;TZID=UTC:20220528T180000
DTEND;TZID=UTC:20220528T210000
DTSTAMP:20260420T130401
CREATED:20220423T143842Z
LAST-MODIFIED:20220423T143842Z
UID:4355-1653760800-1653771600@robdobsbn.com
SUMMARY:Joe Palma LIVE
DESCRIPTION:Joe Palma always brings style when he graces our stage! Come see him for his two-night event! \nCheck him out here!
URL:https://robdobsbn.com/live-events/joe-palma-live-2/
LOCATION:Rob Dob’s Bar & Restaurant\, 801 N Hershey Rd\, Bloomington\, IL\, 61704\, United States
END:VEVENT
BEGIN:VEVENT
DTSTART;TZID=UTC:20220527T180000
DTEND;TZID=UTC:20220527T210000
DTSTAMP:20260420T130401
CREATED:20220423T143702Z
LAST-MODIFIED:20220423T143702Z
UID:4352-1653674400-1653685200@robdobsbn.com
SUMMARY:Joe Palma LIVE
DESCRIPTION:Joe Palma always brings style when he graces our stage! Come see him for his two-night event! \nCheck him out here!
URL:https://robdobsbn.com/live-events/joe-palma-live/
LOCATION:Rob Dob’s Bar & Restaurant\, 801 N Hershey Rd\, Bloomington\, IL\, 61704\, United States
END:VEVENT
BEGIN:VEVENT
DTSTART;TZID=UTC:20220521T180000
DTEND;TZID=UTC:20220521T210000
DTSTAMP:20260420T130401
CREATED:20220423T143347Z
LAST-MODIFIED:20220423T143347Z
UID:4350-1653156000-1653166800@robdobsbn.com
SUMMARY:The Straight Answer Jazz Trio
DESCRIPTION:Jazz is not the question\, but we have the answer! Join us as the Straight Answer Jazz Trio take over the stage at Rob Dob’s for their two-night event! \nCheck them out here!
URL:https://robdobsbn.com/live-events/the-straight-answer-jazz-trio-5/
LOCATION:Rob Dob’s Bar & Restaurant\, 801 N Hershey Rd\, Bloomington\, IL\, 61704\, United States
END:VEVENT
BEGIN:VEVENT
DTSTART;TZID=UTC:20220520T180000
DTEND;TZID=UTC:20220520T210000
DTSTAMP:20260420T130401
CREATED:20220423T143308Z
LAST-MODIFIED:20220423T143308Z
UID:4347-1653069600-1653080400@robdobsbn.com
SUMMARY:The Straight Answer Jazz Trio
DESCRIPTION:Jazz is not the question\, but we have the answer! Join us as the Straight Answer Jazz Trio take over the stage at Rob Dob’s for their two-night event! \nCheck them out here!
URL:https://robdobsbn.com/live-events/the-straight-answer-jazz-trio-4/
LOCATION:Rob Dob’s Bar & Restaurant\, 801 N Hershey Rd\, Bloomington\, IL\, 61704\, United States
END:VEVENT
END:VCALENDAR