BEGIN:VCALENDAR
VERSION:2.0
PRODID:-//Rob Dob's Restaurant & Bar - ECPv6.15.17//NONSGML v1.0//EN
CALSCALE:GREGORIAN
METHOD:PUBLISH
X-WR-CALNAME:Rob Dob's Restaurant & Bar
X-ORIGINAL-URL:https://robdobsbn.com
X-WR-CALDESC:Events for Rob Dob's Restaurant & Bar
REFRESH-INTERVAL;VALUE=DURATION:PT1H
X-Robots-Tag:noindex
X-PUBLISHED-TTL:PT1H
BEGIN:VTIMEZONE
TZID:America/Chicago
BEGIN:DAYLIGHT
TZOFFSETFROM:-0600
TZOFFSETTO:-0500
TZNAME:CDT
DTSTART:20210314T080000
END:DAYLIGHT
BEGIN:STANDARD
TZOFFSETFROM:-0500
TZOFFSETTO:-0600
TZNAME:CST
DTSTART:20211107T070000
END:STANDARD
BEGIN:DAYLIGHT
TZOFFSETFROM:-0600
TZOFFSETTO:-0500
TZNAME:CDT
DTSTART:20220313T080000
END:DAYLIGHT
BEGIN:STANDARD
TZOFFSETFROM:-0500
TZOFFSETTO:-0600
TZNAME:CST
DTSTART:20221106T070000
END:STANDARD
BEGIN:DAYLIGHT
TZOFFSETFROM:-0600
TZOFFSETTO:-0500
TZNAME:CDT
DTSTART:20230312T080000
END:DAYLIGHT
BEGIN:STANDARD
TZOFFSETFROM:-0500
TZOFFSETTO:-0600
TZNAME:CST
DTSTART:20231105T070000
END:STANDARD
END:VTIMEZONE
BEGIN:VEVENT
DTSTART;TZID=America/Chicago:20220311T180000
DTEND;TZID=America/Chicago:20220311T210000
DTSTAMP:20260420T190708
CREATED:20220123T231909Z
LAST-MODIFIED:20220123T231909Z
UID:4170-1647021600-1647032400@robdobsbn.com
SUMMARY:Donna & Friends Trio
DESCRIPTION:Donna and her friends are hanging out at Rob Dob’s once again! Come out this weekend to see why they are one of our longest-running acts!
URL:https://robdobsbn.com/live-events/donna-friends-trio-12/
LOCATION:Rob Dob’s Bar & Restaurant\, 801 N Hershey Rd\, Bloomington\, IL\, 61704\, United States
END:VEVENT
BEGIN:VEVENT
DTSTART;TZID=America/Chicago:20220305T180000
DTEND;TZID=America/Chicago:20220305T210000
DTSTAMP:20260420T190708
CREATED:20220123T231729Z
LAST-MODIFIED:20220302T210357Z
UID:4167-1646503200-1646514000@robdobsbn.com
SUMMARY:Ed Clark
DESCRIPTION:Ed Clark returns once again to grace our Steinway piano! You will hear everything from jazz to popular rock to your favorite Disney songs. One night only!
URL:https://robdobsbn.com/live-events/ed-clark-10/
LOCATION:Rob Dob’s Bar & Restaurant\, 801 N Hershey Rd\, Bloomington\, IL\, 61704\, United States
END:VEVENT
BEGIN:VEVENT
DTSTART;TZID=America/Chicago:20220304T180000
DTEND;TZID=America/Chicago:20220304T210000
DTSTAMP:20260420T190708
CREATED:20220123T231520Z
LAST-MODIFIED:20220302T210338Z
UID:4164-1646416800-1646427600@robdobsbn.com
SUMMARY:The Straight Answer Jazz Trio
DESCRIPTION:Jazz is king at Rob Dob’s when The Straight Answer trio is on stage. Check them out for this one-night event! \nListen to them here!
URL:https://robdobsbn.com/live-events/the-straight-answer-jazz-trio-3/
LOCATION:Rob Dob’s Bar & Restaurant\, 801 N Hershey Rd\, Bloomington\, IL\, 61704\, United States
END:VEVENT
BEGIN:VEVENT
DTSTART;TZID=America/Chicago:20220226T180000
DTEND;TZID=America/Chicago:20220226T210000
DTSTAMP:20260420T190708
CREATED:20220106T014535Z
LAST-MODIFIED:20220220T221944Z
UID:4141-1645898400-1645909200@robdobsbn.com
SUMMARY:Carl Bopp
DESCRIPTION:Come out for a fun and chill night at Rob Dob’s when Carl Bopp plays the keys! \nCheck him out here! 
URL:https://robdobsbn.com/live-events/carl-bopp-7/
LOCATION:Rob Dob’s Bar & Restaurant\, 801 N Hershey Rd\, Bloomington\, IL\, 61704\, United States
END:VEVENT
BEGIN:VEVENT
DTSTART;TZID=America/Chicago:20220225T180000
DTEND;TZID=America/Chicago:20220225T210000
DTSTAMP:20260420T190708
CREATED:20220106T014445Z
LAST-MODIFIED:20220220T221907Z
UID:4138-1645812000-1645822800@robdobsbn.com
SUMMARY:Carl Bopp
DESCRIPTION:Come out for a fun and chill night at Rob Dob’s when Carl Bopp plays the keys! \nCheck him out here
URL:https://robdobsbn.com/live-events/carl-bopp-6/
LOCATION:Rob Dob’s Bar & Restaurant\, 801 N Hershey Rd\, Bloomington\, IL\, 61704\, United States
END:VEVENT
BEGIN:VEVENT
DTSTART;TZID=America/Chicago:20220219T180000
DTEND;TZID=America/Chicago:20220219T210000
DTSTAMP:20260420T190708
CREATED:20220106T014229Z
LAST-MODIFIED:20220106T014229Z
UID:4136-1645293600-1645304400@robdobsbn.com
SUMMARY:Donna & Friends Trio
DESCRIPTION:Donna and her friends return for another weekend of good music\, good food\, and good company. \nCheck them out here: https://www.youtube.com/watch?v=sToSXa1m72c
URL:https://robdobsbn.com/live-events/donna-friends-trio-11/
LOCATION:Rob Dob’s Bar & Restaurant\, 801 N Hershey Rd\, Bloomington\, IL\, 61704\, United States
END:VEVENT
BEGIN:VEVENT
DTSTART;TZID=America/Chicago:20220218T180000
DTEND;TZID=America/Chicago:20220218T210000
DTSTAMP:20260420T190708
CREATED:20220106T013427Z
LAST-MODIFIED:20220106T013427Z
UID:4132-1645207200-1645218000@robdobsbn.com
SUMMARY:Donna & Friends Trio
DESCRIPTION:Donna and her friends return for another weekend of good music\, good food\, and good company. \nCheck them out here: https://www.youtube.com/watch?v=sToSXa1m72c
URL:https://robdobsbn.com/live-events/donna-friends-trio-10/
LOCATION:Rob Dob’s Bar & Restaurant\, 801 N Hershey Rd\, Bloomington\, IL\, 61704\, United States
END:VEVENT
BEGIN:VEVENT
DTSTART;TZID=America/Chicago:20220212T180000
DTEND;TZID=America/Chicago:20220212T210000
DTSTAMP:20260420T190708
CREATED:20220106T012758Z
LAST-MODIFIED:20220106T012758Z
UID:4130-1644688800-1644699600@robdobsbn.com
SUMMARY:"Rocket Man" Shay Thiele
DESCRIPTION:If you have not heard the man called “Central Illinois’ Elton John” then you need to fix that now! \nCheck him out here: https://www.youtube.com/watch?v=7EykP5FPaZs
URL:https://robdobsbn.com/live-events/rocket-man-shay-thiele-2/
LOCATION:Rob Dob’s Bar & Restaurant\, 801 N Hershey Rd\, Bloomington\, IL\, 61704\, United States
END:VEVENT
BEGIN:VEVENT
DTSTART;TZID=America/Chicago:20220211T180000
DTEND;TZID=America/Chicago:20220211T210000
DTSTAMP:20260420T190708
CREATED:20220106T012723Z
LAST-MODIFIED:20220106T012723Z
UID:4127-1644602400-1644613200@robdobsbn.com
SUMMARY:"Rocket Man" Shay Thiele
DESCRIPTION:If you have not heard the man called “Central Illinois’ Elton John” then you need to fix that now! \nCheck him out here: https://www.youtube.com/watch?v=7EykP5FPaZs
URL:https://robdobsbn.com/live-events/rocket-man-shay-thiele/
LOCATION:Rob Dob’s Bar & Restaurant\, 801 N Hershey Rd\, Bloomington\, IL\, 61704\, United States
END:VEVENT
BEGIN:VEVENT
DTSTART;TZID=America/Chicago:20220205T180000
DTEND;TZID=America/Chicago:20220205T210000
DTSTAMP:20260420T190708
CREATED:20220106T010650Z
LAST-MODIFIED:20220106T014736Z
UID:4125-1644084000-1644094800@robdobsbn.com
SUMMARY:Jim & Tommy Acoustic Rock Duo
DESCRIPTION:Come in and request your favorite hits when Jim & Tommy take to the stage at Rob Dob’s! \nCheck them out here: http://www.jimandtommy.com/JimandTommy/
URL:https://robdobsbn.com/live-events/jim-tommy-acoustic-rock-duo-2/
LOCATION:Rob Dob’s Bar & Restaurant\, 801 N Hershey Rd\, Bloomington\, IL\, 61704\, United States
END:VEVENT
BEGIN:VEVENT
DTSTART;TZID=America/Chicago:20220204T180000
DTEND;TZID=America/Chicago:20220204T210000
DTSTAMP:20260420T190708
CREATED:20220106T010610Z
LAST-MODIFIED:20220106T010610Z
UID:4122-1643997600-1644008400@robdobsbn.com
SUMMARY:Jim & Tommy Acoustic Rock Duo
DESCRIPTION:Come in and request your favorite hits when Jim & Tommy take to the stage at Rob Dob’s! \nCheck them out here: http://www.jimandtommy.com/JimandTommy/
URL:https://robdobsbn.com/live-events/jim-tommy-acoustic-rock-duo/
LOCATION:Rob Dob’s Bar & Restaurant\, 801 N Hershey Rd\, Bloomington\, IL\, 61704\, United States
END:VEVENT
BEGIN:VEVENT
DTSTART;TZID=America/Chicago:20220129T180000
DTEND;TZID=America/Chicago:20220129T210000
DTSTAMP:20260420T190708
CREATED:20211212T191120Z
LAST-MODIFIED:20211212T191120Z
UID:4106-1643479200-1643490000@robdobsbn.com
SUMMARY:Ed Clark
DESCRIPTION:Ed Clark returns to Rob Dob’s to play everything from pop\, rock\, jazz\, to your favorite Disney songs\, all on our Steinway piano!
URL:https://robdobsbn.com/live-events/ed-clark-9/
LOCATION:Rob Dob’s Bar & Restaurant\, 801 N Hershey Rd\, Bloomington\, IL\, 61704\, United States
END:VEVENT
BEGIN:VEVENT
DTSTART;TZID=America/Chicago:20220128T180000
DTEND;TZID=America/Chicago:20220128T210000
DTSTAMP:20260420T190708
CREATED:20211212T190938Z
LAST-MODIFIED:20211212T190938Z
UID:4103-1643392800-1643403600@robdobsbn.com
SUMMARY:Ed Clark
DESCRIPTION:Ed Clark returns to Rob Dob’s to play everything from pop\, rock\, jazz\, to your favorite Disney songs\, all on our Steinway piano!
URL:https://robdobsbn.com/live-events/ed-clark-8/
LOCATION:Rob Dob’s Bar & Restaurant\, 801 N Hershey Rd\, Bloomington\, IL\, 61704\, United States
END:VEVENT
BEGIN:VEVENT
DTSTART;TZID=America/Chicago:20220122T180000
DTEND;TZID=America/Chicago:20220122T210000
DTSTAMP:20260420T190708
CREATED:20211212T190714Z
LAST-MODIFIED:20211212T190714Z
UID:4101-1642874400-1642885200@robdobsbn.com
SUMMARY:Donna & Friends Trio
DESCRIPTION:Donna and her friends return home for another fun weekend at Rob Dob’s! \n 
URL:https://robdobsbn.com/live-events/donna-friends-trio-9/
LOCATION:Rob Dob’s Bar & Restaurant\, 801 N Hershey Rd\, Bloomington\, IL\, 61704\, United States
END:VEVENT
BEGIN:VEVENT
DTSTART;TZID=America/Chicago:20220121T180000
DTEND;TZID=America/Chicago:20220121T210000
DTSTAMP:20260420T190708
CREATED:20211212T190627Z
LAST-MODIFIED:20211212T190627Z
UID:4098-1642788000-1642798800@robdobsbn.com
SUMMARY:Donna & Friends Trio
DESCRIPTION:Donna and her friends return home for another fun weekend at Rob Dob’s! \n 
URL:https://robdobsbn.com/live-events/donna-friends-trio-8/
LOCATION:Rob Dob’s Bar & Restaurant\, 801 N Hershey Rd\, Bloomington\, IL\, 61704\, United States
END:VEVENT
BEGIN:VEVENT
DTSTART;TZID=America/Chicago:20220115T180000
DTEND;TZID=America/Chicago:20220115T210000
DTSTAMP:20260420T190708
CREATED:20211212T190454Z
LAST-MODIFIED:20211212T190454Z
UID:4096-1642269600-1642280400@robdobsbn.com
SUMMARY:The Style Catz
DESCRIPTION:Take a step back in time to Las Vegas in the 1950s with Frank Sinatra and the Rat Pack\, with all of the glitz and style that can only be provided by the Style Catz!
URL:https://robdobsbn.com/live-events/the-style-catz-6/
LOCATION:Rob Dob’s Bar & Restaurant\, 801 N Hershey Rd\, Bloomington\, IL\, 61704\, United States
END:VEVENT
BEGIN:VEVENT
DTSTART;TZID=America/Chicago:20220114T180000
DTEND;TZID=America/Chicago:20220114T210000
DTSTAMP:20260420T190708
CREATED:20211212T185718Z
LAST-MODIFIED:20211212T185718Z
UID:4093-1642183200-1642194000@robdobsbn.com
SUMMARY:The Style Catz
DESCRIPTION:Step back in time to the classy days of Las Vegas in the 1950s with the sounds of Frank Sinatra and the Rat Pack with the glitz and style that only the Style Catz can provide. \n 
URL:https://robdobsbn.com/live-events/the-style-catz-5/
LOCATION:Rob Dob’s Bar & Restaurant\, 801 N Hershey Rd\, Bloomington\, IL\, 61704\, United States
END:VEVENT
END:VCALENDAR