BEGIN:VCALENDAR
VERSION:2.0
PRODID:-//Rob Dob's Restaurant & Bar - ECPv6.15.17//NONSGML v1.0//EN
CALSCALE:GREGORIAN
METHOD:PUBLISH
X-WR-CALNAME:Rob Dob's Restaurant & Bar
X-ORIGINAL-URL:https://robdobsbn.com
X-WR-CALDESC:Events for Rob Dob's Restaurant & Bar
REFRESH-INTERVAL;VALUE=DURATION:PT1H
X-Robots-Tag:noindex
X-PUBLISHED-TTL:PT1H
BEGIN:VTIMEZONE
TZID:America/Chicago
BEGIN:DAYLIGHT
TZOFFSETFROM:-0600
TZOFFSETTO:-0500
TZNAME:CDT
DTSTART:20250309T080000
END:DAYLIGHT
BEGIN:STANDARD
TZOFFSETFROM:-0500
TZOFFSETTO:-0600
TZNAME:CST
DTSTART:20251102T070000
END:STANDARD
BEGIN:DAYLIGHT
TZOFFSETFROM:-0600
TZOFFSETTO:-0500
TZNAME:CDT
DTSTART:20260308T080000
END:DAYLIGHT
BEGIN:STANDARD
TZOFFSETFROM:-0500
TZOFFSETTO:-0600
TZNAME:CST
DTSTART:20261101T070000
END:STANDARD
BEGIN:DAYLIGHT
TZOFFSETFROM:-0600
TZOFFSETTO:-0500
TZNAME:CDT
DTSTART:20270314T080000
END:DAYLIGHT
BEGIN:STANDARD
TZOFFSETFROM:-0500
TZOFFSETTO:-0600
TZNAME:CST
DTSTART:20271107T070000
END:STANDARD
END:VTIMEZONE
BEGIN:VEVENT
DTSTART;TZID=America/Chicago:20260306T180000
DTEND;TZID=America/Chicago:20260306T210000
DTSTAMP:20260421T123226
CREATED:20251211T040221Z
LAST-MODIFIED:20251211T040221Z
UID:6828-1772820000-1772830800@robdobsbn.com
SUMMARY:Ed Clark
DESCRIPTION:Ed Clark
URL:https://robdobsbn.com/live-events/ed-clark-30/
END:VEVENT
BEGIN:VEVENT
DTSTART;TZID=America/Chicago:20260307T180000
DTEND;TZID=America/Chicago:20260307T210000
DTSTAMP:20260421T123226
CREATED:20251211T040251Z
LAST-MODIFIED:20251211T040251Z
UID:6830-1772906400-1772917200@robdobsbn.com
SUMMARY:Carl Bopp
DESCRIPTION:Carl Bopp
URL:https://robdobsbn.com/live-events/carl-bopp-61/
END:VEVENT
BEGIN:VEVENT
DTSTART;TZID=America/Chicago:20260313T180000
DTEND;TZID=America/Chicago:20260313T210000
DTSTAMP:20260421T123226
CREATED:20251211T040333Z
LAST-MODIFIED:20251211T040333Z
UID:6832-1773424800-1773435600@robdobsbn.com
SUMMARY:Tommy & Jim
DESCRIPTION:Tommy & Jim
URL:https://robdobsbn.com/live-events/tommy-jim-30/
END:VEVENT
BEGIN:VEVENT
DTSTART;TZID=America/Chicago:20260314T180000
DTEND;TZID=America/Chicago:20260314T210000
DTSTAMP:20260421T123226
CREATED:20251211T040357Z
LAST-MODIFIED:20251211T040357Z
UID:6834-1773511200-1773522000@robdobsbn.com
SUMMARY:Tommy & Jim
DESCRIPTION:Tommy & Jim
URL:https://robdobsbn.com/live-events/tommy-jim-31/
END:VEVENT
BEGIN:VEVENT
DTSTART;TZID=America/Chicago:20260317T180000
DTEND;TZID=America/Chicago:20260317T210000
DTSTAMP:20260421T123226
CREATED:20260206T191756Z
LAST-MODIFIED:20260206T191756Z
UID:6875-1773770400-1773781200@robdobsbn.com
SUMMARY:Tommy & Jim
DESCRIPTION:Tommy & Jim
URL:https://robdobsbn.com/live-events/tommy-jim-32/
END:VEVENT
BEGIN:VEVENT
DTSTART;TZID=America/Chicago:20260320T180000
DTEND;TZID=America/Chicago:20260320T210000
DTSTAMP:20260421T123226
CREATED:20251211T040421Z
LAST-MODIFIED:20251211T040421Z
UID:6836-1774029600-1774040400@robdobsbn.com
SUMMARY:Golden Embers
DESCRIPTION:Golden Embers
URL:https://robdobsbn.com/live-events/golden-embers-42/
END:VEVENT
BEGIN:VEVENT
DTSTART;TZID=America/Chicago:20260321T180000
DTEND;TZID=America/Chicago:20260321T210000
DTSTAMP:20260421T123226
CREATED:20251211T040444Z
LAST-MODIFIED:20251211T040444Z
UID:6838-1774116000-1774126800@robdobsbn.com
SUMMARY:Golden Embers
DESCRIPTION:Golden Embers
URL:https://robdobsbn.com/live-events/golden-embers-43/
END:VEVENT
BEGIN:VEVENT
DTSTART;TZID=America/Chicago:20260327T180000
DTEND;TZID=America/Chicago:20260327T210000
DTSTAMP:20260421T123226
CREATED:20251211T040519Z
LAST-MODIFIED:20251211T040519Z
UID:6840-1774634400-1774645200@robdobsbn.com
SUMMARY:Straight Answer
DESCRIPTION:Straight Answer
URL:https://robdobsbn.com/live-events/straight-answer-24/
END:VEVENT
BEGIN:VEVENT
DTSTART;TZID=America/Chicago:20260328T180000
DTEND;TZID=America/Chicago:20260328T210000
DTSTAMP:20260421T123226
CREATED:20251211T040539Z
LAST-MODIFIED:20251211T040539Z
UID:6842-1774720800-1774731600@robdobsbn.com
SUMMARY:Straight Answer
DESCRIPTION:Straight Answer
URL:https://robdobsbn.com/live-events/straight-answer-25/
END:VEVENT
END:VCALENDAR