BEGIN:VCALENDAR
VERSION:2.0
PRODID:-//Rob Dob's Restaurant & Bar - ECPv6.15.17//NONSGML v1.0//EN
CALSCALE:GREGORIAN
METHOD:PUBLISH
X-WR-CALNAME:Rob Dob's Restaurant & Bar
X-ORIGINAL-URL:https://robdobsbn.com
X-WR-CALDESC:Events for Rob Dob's Restaurant & Bar
REFRESH-INTERVAL;VALUE=DURATION:PT1H
X-Robots-Tag:noindex
X-PUBLISHED-TTL:PT1H
BEGIN:VTIMEZONE
TZID:America/Chicago
BEGIN:DAYLIGHT
TZOFFSETFROM:-0600
TZOFFSETTO:-0500
TZNAME:CDT
DTSTART:20250309T080000
END:DAYLIGHT
BEGIN:STANDARD
TZOFFSETFROM:-0500
TZOFFSETTO:-0600
TZNAME:CST
DTSTART:20251102T070000
END:STANDARD
BEGIN:DAYLIGHT
TZOFFSETFROM:-0600
TZOFFSETTO:-0500
TZNAME:CDT
DTSTART:20260308T080000
END:DAYLIGHT
BEGIN:STANDARD
TZOFFSETFROM:-0500
TZOFFSETTO:-0600
TZNAME:CST
DTSTART:20261101T070000
END:STANDARD
BEGIN:DAYLIGHT
TZOFFSETFROM:-0600
TZOFFSETTO:-0500
TZNAME:CDT
DTSTART:20270314T080000
END:DAYLIGHT
BEGIN:STANDARD
TZOFFSETFROM:-0500
TZOFFSETTO:-0600
TZNAME:CST
DTSTART:20271107T070000
END:STANDARD
END:VTIMEZONE
BEGIN:VEVENT
DTSTART;TZID=America/Chicago:20260501T180000
DTEND;TZID=America/Chicago:20260501T210000
DTSTAMP:20260421T124625
CREATED:20260317T034448Z
LAST-MODIFIED:20260317T034448Z
UID:6924-1777658400-1777669200@robdobsbn.com
SUMMARY:Straight Answer
DESCRIPTION:Straight Answer
URL:https://robdobsbn.com/live-events/straight-answer-26/
END:VEVENT
BEGIN:VEVENT
DTSTART;TZID=America/Chicago:20260502T180000
DTEND;TZID=America/Chicago:20260502T210000
DTSTAMP:20260421T124625
CREATED:20260317T034513Z
LAST-MODIFIED:20260317T034513Z
UID:6926-1777744800-1777755600@robdobsbn.com
SUMMARY:Carl Bopp
DESCRIPTION:Carl Bopp
URL:https://robdobsbn.com/live-events/carl-bopp-62/
END:VEVENT
BEGIN:VEVENT
DTSTART;TZID=America/Chicago:20260508T180000
DTEND;TZID=America/Chicago:20260508T210000
DTSTAMP:20260421T124625
CREATED:20260317T034557Z
LAST-MODIFIED:20260317T034557Z
UID:6928-1778263200-1778274000@robdobsbn.com
SUMMARY:Almost LIVE
DESCRIPTION:Almost LIVE
URL:https://robdobsbn.com/live-events/almost-live-48/
END:VEVENT
BEGIN:VEVENT
DTSTART;TZID=America/Chicago:20260509T180000
DTEND;TZID=America/Chicago:20260509T210000
DTSTAMP:20260421T124625
CREATED:20260317T034620Z
LAST-MODIFIED:20260317T034620Z
UID:6930-1778349600-1778360400@robdobsbn.com
SUMMARY:Almost LIVE
DESCRIPTION:Almost LIVE
URL:https://robdobsbn.com/live-events/almost-live-49/
END:VEVENT
BEGIN:VEVENT
DTSTART;TZID=America/Chicago:20260515T180000
DTEND;TZID=America/Chicago:20260515T210000
DTSTAMP:20260421T124625
CREATED:20260317T034646Z
LAST-MODIFIED:20260317T034646Z
UID:6932-1778868000-1778878800@robdobsbn.com
SUMMARY:Tommy & Jim
DESCRIPTION:Tommy & Jim
URL:https://robdobsbn.com/live-events/tommy-jim-35/
END:VEVENT
BEGIN:VEVENT
DTSTART;TZID=America/Chicago:20260516T180000
DTEND;TZID=America/Chicago:20260516T210000
DTSTAMP:20260421T124625
CREATED:20260317T034707Z
LAST-MODIFIED:20260317T034707Z
UID:6934-1778954400-1778965200@robdobsbn.com
SUMMARY:Tommy & Jim
DESCRIPTION:Tommy & Jim
URL:https://robdobsbn.com/live-events/tommy-jim-36/
END:VEVENT
BEGIN:VEVENT
DTSTART;TZID=America/Chicago:20260522T180000
DTEND;TZID=America/Chicago:20260522T210000
DTSTAMP:20260421T124625
CREATED:20260317T034736Z
LAST-MODIFIED:20260317T034736Z
UID:6936-1779472800-1779483600@robdobsbn.com
SUMMARY:Carl Bopp
DESCRIPTION:Carl Bopp
URL:https://robdobsbn.com/live-events/carl-bopp-63/
END:VEVENT
BEGIN:VEVENT
DTSTART;TZID=America/Chicago:20260523T180000
DTEND;TZID=America/Chicago:20260523T210000
DTSTAMP:20260421T124625
CREATED:20260317T034757Z
LAST-MODIFIED:20260317T034757Z
UID:6938-1779559200-1779570000@robdobsbn.com
SUMMARY:Carl Bopp
DESCRIPTION:Carl Bopp
URL:https://robdobsbn.com/live-events/carl-bopp-64/
END:VEVENT
BEGIN:VEVENT
DTSTART;TZID=America/Chicago:20260529T180000
DTEND;TZID=America/Chicago:20260529T210000
DTSTAMP:20260421T124625
CREATED:20260317T034823Z
LAST-MODIFIED:20260317T034823Z
UID:6940-1780077600-1780088400@robdobsbn.com
SUMMARY:Ed Clark
DESCRIPTION:Ed Clark
URL:https://robdobsbn.com/live-events/ed-clark-32/
END:VEVENT
BEGIN:VEVENT
DTSTART;TZID=America/Chicago:20260530T180000
DTEND;TZID=America/Chicago:20260530T210000
DTSTAMP:20260421T124625
CREATED:20260317T034843Z
LAST-MODIFIED:20260317T034843Z
UID:6942-1780164000-1780174800@robdobsbn.com
SUMMARY:Ed Clark
DESCRIPTION:Ed Clark
URL:https://robdobsbn.com/live-events/ed-clark-33/
END:VEVENT
END:VCALENDAR